BEGIN:VCALENDAR
VERSION:2.0
PRODID:-//eventon.com NONSGML v1.0//EN
CALSCALE:GREGORIAN
METHOD:PUBLISH
BEGIN:VEVENT
UID:69e5efa160429
DTSTAMP:20260420T091929Z
DTSTART:20231112T143000Z
DTEND:20231112T163000Z
LOCATION:Prinzregententheater München Prinzregentenpl. 12\,  81675 München
SUMMARY:DE - München
DESCRIPTION:Tickets: hier klicken Sebastian Manz // Dag Jensen // Felix Kli
 eser // Franziska Hölscher // Wen Xiao Zheng // Lionel Martin // Dominik 
 Wagner Mozart: Quartett für Oboe und Streichtrio F-Dur KV 370 (368b)\,  mi
 t Special Guest Ramón Ortega Quero\,  Oboe Nielsen: „Serenata in vano“
  für Klarinette\,  Fagott\,  Horn\,  Violoncello[..]\nhttps://sebastianman
 z.com/events/de-muenchen/
URL:https://sebastianmanz.com/events/de-muenchen/
END:VEVENT
END:VCALENDAR