BEGIN:VCALENDAR
VERSION:2.0
PRODID:-//eventon.com NONSGML v1.0//EN
CALSCALE:GREGORIAN
METHOD:PUBLISH
BEGIN:VEVENT
UID:69e5ed422d5fe
DTSTAMP:20260420T090922Z
DTSTART:20230511T130000Z
DTEND:20230511T150000Z
LOCATION:Klangmanufaktur der Hofer Symphoniker Kulmbacher Str. 1\,  95030 Hof
SUMMARY:DE - Hof
DESCRIPTION:Meisterkurs / Unterricht / Meet &amp; Greet in der Klangmanufak
 tur der Hofer Symphoniker Die Hofer Symphoniker sind das einzige Orchester 
 Deutschlands\,  das eine Musikschule betreibt. Seit 1978 gibt es die klangv
 olle Symbiose\,  die weit über die Hofer Grenzen hinaus Aufmerksamkeit und
  Beachtung erlangt. Das Besondere an der orchestereigenen Musikschule ist\,
  [..]\nhttps://sebastianmanz.com/events/de-hof/
URL:https://sebastianmanz.com/events/de-hof/
END:VEVENT
END:VCALENDAR