BEGIN:VCALENDAR
VERSION:2.0
PRODID:-//eventon.com NONSGML v1.0//EN
CALSCALE:GREGORIAN
METHOD:PUBLISH
BEGIN:VEVENT
UID:69e9d6c59740f
DTSTAMP:20260423T082229Z
DTSTART:20230310T183000Z
DTEND:20230310T203000Z
LOCATION:Konzertsaal im Pfalzbau Berliner Str. 30\,  67059 Ludwigshafen am Rhein
SUMMARY:DE - Ludwigshafen
DESCRIPTION:Programm Bedrich Smetana Die Moldau\,  aus dem Zyklus &#8222;M
 ein Vaterland&#8220; Wolfgang Amadeus Mozart Konzert für Klarinette und O
 rchester A-Dur\,  KV 622 Antonín Dvorák Sinfonie Nr. 9 e-Moll\,  op. 95 
 &#8222;Aus der neuen Welt&#8220; Staatsphilharmonie Rheinland-Pfalz Sebasti
 an Manz\,  Bassettklarinette Christoph Gedschold\,  Leitung Wenn ich mir wa
 s wünschen dürfte Manche lesen ein berühmtes Buch zehn[..]\nhttps://seba
 stianmanz.com/events/de-ludwigshafen/
URL:https://sebastianmanz.com/events/de-ludwigshafen/
END:VEVENT
END:VCALENDAR